BEGIN:VCALENDAR
VERSION:2.0
PRODID:icalendar-ruby
CALSCALE:GREGORIAN
METHOD:PUBLISH
BEGIN:VEVENT
DTSTAMP:20260420T070200Z
UID:196-144548@engagesouthkc.com
DTSTART:20260802T220000Z
DTEND:20260803T000000Z
CLASS:PUBLIC
CREATED:20260301T201527
DESCRIPTION:Spirit Night\nFirst Sundays | 5:00–7:00 PMOpen to Youth &amp\
 ; Families(Youth are welcome to come on their own\, or with their families
 .)\nJoin us for Spirit Night\, a monthly Sunday evening gathering focused 
 on spiritual formation\, community\, and preparing our hearts for the mont
 h ahead. Each night includes shared food\, meaningful conversation\, and s
 pace to grow together in faith.\nLocation:Kansas City\, MOText the church 
 for the address: 833-912-046\nWhat to Bring:Dinner to share – potluck st
 yle!Each month will have a fun food theme.\nUpcoming Dates:\n\n\nFebruary 
 1\n\n\nDiscussion theme: Serving others\n\n\nMarch 1:\nDiscussion theme: S
 ilence and solitude. \nFood theme: Bring your favorite loud food. (Exampl
 es: croutons\, chips\, carrots). We'll have crunchy tacos for dinner.\n\n\
 nApril 12\n\n\nDiscussion theme: P.R.A.Y.\n\n\nMay 3\n\n\nDiscussion theme
 : BLESS our neighbor\n\nJune 7\n\nDiscussion theme: Our testimony\n\nAugus
 t 2\n\nTheme: Back to school\n \nContact:Stephen Buller\, Director of Fam
 ily Engagement\, with questions: sbuller@providenceartskc.org
LAST-MODIFIED:20260301T201527
LOCATION:
SUMMARY:Spirit Night
URL;VALUE=URI:https://www.engagesouthkc.com/events/spirit-night/2026-08-02
ATTACH;FILENAME=Screenshot-2026-01-18-at-6.05.28PM.png;FMTTYPE=image/png:ht
 tps://dq5pwpg1q8ru0.cloudfront.net/2026/01/19/00/07/43/db1be707-8628-4a9e-
 8a90-cf0370e679d4/Screenshot-2026-01-18-at-6.05.28PM.png
END:VEVENT
END:VCALENDAR
